BEGIN:VCALENDAR
VERSION:2.0
PRODID:-//Arden Divers - ECPv6.15.20//NONSGML v1.0//EN
CALSCALE:GREGORIAN
METHOD:PUBLISH
X-WR-CALNAME:Arden Divers
X-ORIGINAL-URL:https://www.ardendivers.co.uk
X-WR-CALDESC:Events for Arden Divers
REFRESH-INTERVAL;VALUE=DURATION:PT1H
X-Robots-Tag:noindex
X-PUBLISHED-TTL:PT1H
BEGIN:VTIMEZONE
TZID:Europe/London
BEGIN:DAYLIGHT
TZOFFSETFROM:+0000
TZOFFSETTO:+0100
TZNAME:BST
DTSTART:20250330T010000
END:DAYLIGHT
BEGIN:STANDARD
TZOFFSETFROM:+0100
TZOFFSETTO:+0000
TZNAME:GMT
DTSTART:20251026T010000
END:STANDARD
BEGIN:DAYLIGHT
TZOFFSETFROM:+0000
TZOFFSETTO:+0100
TZNAME:BST
DTSTART:20260329T010000
END:DAYLIGHT
BEGIN:STANDARD
TZOFFSETFROM:+0100
TZOFFSETTO:+0000
TZNAME:GMT
DTSTART:20261025T010000
END:STANDARD
BEGIN:DAYLIGHT
TZOFFSETFROM:+0000
TZOFFSETTO:+0100
TZNAME:BST
DTSTART:20270328T010000
END:DAYLIGHT
BEGIN:STANDARD
TZOFFSETFROM:+0100
TZOFFSETTO:+0000
TZNAME:GMT
DTSTART:20271031T010000
END:STANDARD
END:VTIMEZONE
BEGIN:VEVENT
DTSTART;TZID=Europe/London:20260114T200000
DTEND;TZID=Europe/London:20260114T230000
DTSTAMP:20260420T150047
CREATED:20260109T133239Z
LAST-MODIFIED:20260109T133433Z
UID:17112-1768420800-1768431600@www.ardendivers.co.uk
SUMMARY:Social meet up\, 14 January
DESCRIPTION:Our regular social get together. Come along\, enjoy the company\, chat about the diving you love and make friends
URL:https://www.ardendivers.co.uk/event/social-meet-up-14-january/
LOCATION:Mary Arden Inn\, Wilmcote\, Stratford on Avon\, Warwickshire\, CV37 9XJ\, United Kingdom
CATEGORIES:Social,Socials
END:VEVENT
BEGIN:VEVENT
DTSTART;TZID=Europe/London:20260118T083000
DTEND;TZID=Europe/London:20260118T170000
DTSTAMP:20260420T150047
CREATED:20260110T134034Z
LAST-MODIFIED:20260112T101010Z
UID:17138-1768725000-1768755600@www.ardendivers.co.uk
SUMMARY:January Fun Dive
DESCRIPTION:Yes\, Stoney can be fun even in January! Viz has been fabulous recently\, so this is a great chance to get some time underwater and see Stoney at its best. Followed\, of course\, by a warming beverage and good company in Nemos. \nA joint event with our friends from Solihull Divers. Let Simon or Sophie know if you’re planning on coming.
URL:https://www.ardendivers.co.uk/event/january-fun-dive/
LOCATION:Stoney Cove\, Sapcote Road\, Stoney Stanton\, Leicestershire\, LE9 4DW\, United Kingdom
CATEGORIES:Trips
END:VEVENT
BEGIN:VEVENT
DTSTART;TZID=Europe/London:20260121T200000
DTEND;TZID=Europe/London:20260121T230000
DTSTAMP:20260420T150047
CREATED:20260109T133239Z
LAST-MODIFIED:20260109T133433Z
UID:17113-1769025600-1769036400@www.ardendivers.co.uk
SUMMARY:Social meet up\, 21 January
DESCRIPTION:Our regular social get together. Come along\, enjoy the company\, chat about the diving you love and make friends
URL:https://www.ardendivers.co.uk/event/social-meet-up-21-january/
LOCATION:Mary Arden Inn\, Wilmcote\, Stratford on Avon\, Warwickshire\, CV37 9XJ\, United Kingdom
CATEGORIES:Social,Socials
END:VEVENT
BEGIN:VEVENT
DTSTART;TZID=Europe/London:20260128T200000
DTEND;TZID=Europe/London:20260128T230000
DTSTAMP:20260420T150047
CREATED:20260109T133239Z
LAST-MODIFIED:20260109T133432Z
UID:17114-1769630400-1769641200@www.ardendivers.co.uk
SUMMARY:Social meet up\, 28 January
DESCRIPTION:Our regular social get together. Come along\, enjoy the company\, chat about the diving you love and make friends
URL:https://www.ardendivers.co.uk/event/social-meet-up-28-january/
LOCATION:Mary Arden Inn\, Wilmcote\, Stratford on Avon\, Warwickshire\, CV37 9XJ\, United Kingdom
CATEGORIES:Social,Socials
END:VEVENT
END:VCALENDAR