BEGIN:VCALENDAR
VERSION:2.0
PRODID:-//Arden Divers - ECPv6.15.20//NONSGML v1.0//EN
CALSCALE:GREGORIAN
METHOD:PUBLISH
X-ORIGINAL-URL:https://www.ardendivers.co.uk
X-WR-CALDESC:Events for Arden Divers
REFRESH-INTERVAL;VALUE=DURATION:PT1H
X-Robots-Tag:noindex
X-PUBLISHED-TTL:PT1H
BEGIN:VTIMEZONE
TZID:Europe/London
BEGIN:DAYLIGHT
TZOFFSETFROM:+0000
TZOFFSETTO:+0100
TZNAME:BST
DTSTART:20240331T010000
END:DAYLIGHT
BEGIN:STANDARD
TZOFFSETFROM:+0100
TZOFFSETTO:+0000
TZNAME:GMT
DTSTART:20241027T010000
END:STANDARD
BEGIN:DAYLIGHT
TZOFFSETFROM:+0000
TZOFFSETTO:+0100
TZNAME:BST
DTSTART:20250330T010000
END:DAYLIGHT
BEGIN:STANDARD
TZOFFSETFROM:+0100
TZOFFSETTO:+0000
TZNAME:GMT
DTSTART:20251026T010000
END:STANDARD
BEGIN:DAYLIGHT
TZOFFSETFROM:+0000
TZOFFSETTO:+0100
TZNAME:BST
DTSTART:20260329T010000
END:DAYLIGHT
BEGIN:STANDARD
TZOFFSETFROM:+0100
TZOFFSETTO:+0000
TZNAME:GMT
DTSTART:20261025T010000
END:STANDARD
END:VTIMEZONE
BEGIN:VEVENT
DTSTART;TZID=Europe/London:20250806T200000
DTEND;TZID=Europe/London:20250806T230000
DTSTAMP:20260420T233446
CREATED:20250710T075000Z
LAST-MODIFIED:20250710T093648Z
UID:16498-1754510400-1754521200@www.ardendivers.co.uk
SUMMARY:Social meet up\, 6 August
DESCRIPTION:Our regular social get together. Come along\, enjoy the company\, chat about the diving you love and make friends
URL:https://www.ardendivers.co.uk/event/social-meet-up-6-august/
LOCATION:Mary Arden Inn\, Wilmcote\, Stratford on Avon\, Warwickshire\, CV37 9XJ\, United Kingdom
CATEGORIES:Socials
END:VEVENT
BEGIN:VEVENT
DTSTART;TZID=Europe/London:20250813T200000
DTEND;TZID=Europe/London:20250813T230000
DTSTAMP:20260420T233447
CREATED:20250710T075000Z
LAST-MODIFIED:20250710T093648Z
UID:16499-1755115200-1755126000@www.ardendivers.co.uk
SUMMARY:Social meet up\, 13 August
DESCRIPTION:Our regular social get together. Come along\, enjoy the company\, chat about the diving you love and make friends
URL:https://www.ardendivers.co.uk/event/social-meet-up-13-august/
LOCATION:Mary Arden Inn\, Wilmcote\, Stratford on Avon\, Warwickshire\, CV37 9XJ\, United Kingdom
CATEGORIES:Socials
END:VEVENT
BEGIN:VEVENT
DTSTART;TZID=Europe/London:20250820T200000
DTEND;TZID=Europe/London:20250820T230000
DTSTAMP:20260420T233447
CREATED:20250710T075004Z
LAST-MODIFIED:20251119T162210Z
UID:16500-1755720000-1755730800@www.ardendivers.co.uk
SUMMARY:Social meet up\, 20 August
DESCRIPTION:Our regular social get together. Come along\, enjoy the company\, chat about the diving you love and make friends
URL:https://www.ardendivers.co.uk/event/social-meet-up-20-august/
LOCATION:Mary Arden Inn\, Wilmcote\, Stratford on Avon\, Warwickshire\, CV37 9XJ\, United Kingdom
CATEGORIES:Social,Socials
END:VEVENT
BEGIN:VEVENT
DTSTART;VALUE=DATE:20250823
DTEND;VALUE=DATE:20250826
DTSTAMP:20260420T233447
CREATED:20250508T102736Z
LAST-MODIFIED:20250711T204213Z
UID:241-1755907200-1756166399@www.ardendivers.co.uk
SUMMARY:Pembrokeshire
DESCRIPTION:Spend the bank holiday weekend diving the beautiful Pembrokeshire coast\, with breath-taking scenery and abundant underwater wildlife. \nThree days diving from the Celtic Explorer out of Milford Haven. Contact Alastair.
URL:https://www.ardendivers.co.uk/event/pembrokeshire/
LOCATION:Milford Haven\, Milford Haven\, Pembrokeshire\, United Kingdom
CATEGORIES:Trips
END:VEVENT
BEGIN:VEVENT
DTSTART;TZID=Europe/London:20250827T200000
DTEND;TZID=Europe/London:20250827T230000
DTSTAMP:20260420T233447
CREATED:20250710T075005Z
LAST-MODIFIED:20251119T162210Z
UID:16501-1756324800-1756335600@www.ardendivers.co.uk
SUMMARY:Social meet up\, 27 August
DESCRIPTION:Our regular social get together. Come along\, enjoy the company\, chat about the diving you love and make friends
URL:https://www.ardendivers.co.uk/event/social-meet-up-27-august/
LOCATION:Mary Arden Inn\, Wilmcote\, Stratford on Avon\, Warwickshire\, CV37 9XJ\, United Kingdom
CATEGORIES:Social,Socials
END:VEVENT
END:VCALENDAR