BEGIN:VCALENDAR
VERSION:2.0
PRODID:-//Arden Divers - ECPv6.15.20//NONSGML v1.0//EN
CALSCALE:GREGORIAN
METHOD:PUBLISH
X-WR-CALNAME:Arden Divers
X-ORIGINAL-URL:https://www.ardendivers.co.uk
X-WR-CALDESC:Events for Arden Divers
REFRESH-INTERVAL;VALUE=DURATION:PT1H
X-Robots-Tag:noindex
X-PUBLISHED-TTL:PT1H
BEGIN:VTIMEZONE
TZID:Europe/London
BEGIN:DAYLIGHT
TZOFFSETFROM:+0000
TZOFFSETTO:+0100
TZNAME:BST
DTSTART:20240331T010000
END:DAYLIGHT
BEGIN:STANDARD
TZOFFSETFROM:+0100
TZOFFSETTO:+0000
TZNAME:GMT
DTSTART:20241027T010000
END:STANDARD
BEGIN:DAYLIGHT
TZOFFSETFROM:+0000
TZOFFSETTO:+0100
TZNAME:BST
DTSTART:20250330T010000
END:DAYLIGHT
BEGIN:STANDARD
TZOFFSETFROM:+0100
TZOFFSETTO:+0000
TZNAME:GMT
DTSTART:20251026T010000
END:STANDARD
BEGIN:DAYLIGHT
TZOFFSETFROM:+0000
TZOFFSETTO:+0100
TZNAME:BST
DTSTART:20260329T010000
END:DAYLIGHT
BEGIN:STANDARD
TZOFFSETFROM:+0100
TZOFFSETTO:+0000
TZNAME:GMT
DTSTART:20261025T010000
END:STANDARD
END:VTIMEZONE
BEGIN:VEVENT
DTSTART;TZID=Europe/London:20250625T200000
DTEND;TZID=Europe/London:20250625T230000
DTSTAMP:20260421T012054
CREATED:20250622T144418Z
LAST-MODIFIED:20250622T144418Z
UID:16396-1750881600-1750892400@www.ardendivers.co.uk
SUMMARY:Social meet up: 25 June
DESCRIPTION:Our regular weekly social get together. Lots of us are away in the Red Sea\, so check on WhatsApp if anyone is going
URL:https://www.ardendivers.co.uk/event/social-meet-up-25-june/
LOCATION:Mary Arden Inn\, Wilmcote\, Stratford on Avon\, Warwickshire\, CV37 9XJ\, United Kingdom
CATEGORIES:Socials
END:VEVENT
BEGIN:VEVENT
DTSTART;VALUE=DATE:20250614
DTEND;VALUE=DATE:20250629
DTSTAMP:20260421T012054
CREATED:20250424T203743Z
LAST-MODIFIED:20250424T203841Z
UID:82-1749859200-1751155199@www.ardendivers.co.uk
SUMMARY:Sharm el Sheikh
DESCRIPTION:Sharm el Sheikh in the summer is just fabulous! The Ras Mohamed National Park is teaming with life\, with huge shoals of snapper and bat fish\, and perhaps something larger cruising by. \nArden Divers will be there for two weeks\, diving with the fabulous Oonas Dive Club\, and staying in their hotel in Naama Bay. Come and join us! There’s no need to come for the whole two weeks—come for as long as you can. It’ll be fabulous!
URL:https://www.ardendivers.co.uk/event/sharm-el-sheikh/
LOCATION:Oonas Dive Club\, Naama Bay\, South Sinai\, Egypt
CATEGORIES:Trips
END:VEVENT
BEGIN:VEVENT
DTSTART;TZID=Europe/London:20250605T200000
DTEND;TZID=Europe/London:20250605T230000
DTSTAMP:20260421T012054
CREATED:20250526T163856Z
LAST-MODIFIED:20250526T163856Z
UID:278-1749153600-1749164400@www.ardendivers.co.uk
SUMMARY:Social meetup
DESCRIPTION:Our regular Wednesday evening get together. Come along\, hang out with friends and chat about your love for diving at the Mary Arden Inn in Wilmcote
URL:https://www.ardendivers.co.uk/event/social-meetup-5-june/
LOCATION:Mary Arden Inn\, Wilmcote\, Stratford on Avon\, Warwickshire\, CV37 9XJ\, United Kingdom
CATEGORIES:Socials
END:VEVENT
BEGIN:VEVENT
DTSTART;TZID=Europe/London:20250529T200000
DTEND;TZID=Europe/London:20250529T230000
DTSTAMP:20260421T012054
CREATED:20250525T084225Z
LAST-MODIFIED:20250525T084225Z
UID:276-1748548800-1748559600@www.ardendivers.co.uk
SUMMARY:Social meetup
DESCRIPTION:Our regular Wednesday evening get together. Come along\, hang out with friends and chat about your love for diving at the Mary Arden Inn in Wilmcote
URL:https://www.ardendivers.co.uk/event/social-meetup-29-may/
LOCATION:Mary Arden Inn\, Wilmcote\, Stratford on Avon\, Warwickshire\, CV37 9XJ\, United Kingdom
CATEGORIES:Socials
END:VEVENT
BEGIN:VEVENT
DTSTART;TZID=Europe/London:20250521T200000
DTEND;TZID=Europe/London:20250521T230000
DTSTAMP:20260421T012054
CREATED:20250508T130958Z
LAST-MODIFIED:20250508T130958Z
UID:248-1747857600-1747868400@www.ardendivers.co.uk
SUMMARY:Social meet up
DESCRIPTION:Our regular Wednesday evening get together. Come along\, hang out with friends and chat about your love for diving at the Mary Arden Inn in Wilmcote
URL:https://www.ardendivers.co.uk/event/social-meet-up-21-may/
LOCATION:Mary Arden Inn\, Wilmcote\, Stratford on Avon\, Warwickshire\, CV37 9XJ\, United Kingdom
CATEGORIES:Socials
END:VEVENT
BEGIN:VEVENT
DTSTART;TZID=Europe/London:20250514T200000
DTEND;TZID=Europe/London:20250514T230000
DTSTAMP:20260421T012054
CREATED:20250508T130714Z
LAST-MODIFIED:20250508T130714Z
UID:246-1747252800-1747263600@www.ardendivers.co.uk
SUMMARY:Social meetup
DESCRIPTION:Our regular Wednesday evening get together. Come along\, hang out with friends and chat about your love for diving at the Mary Arden Inn in Wilmcote
URL:https://www.ardendivers.co.uk/event/social-meetup-14-may/
LOCATION:Mary Arden Inn\, Wilmcote\, Stratford on Avon\, Warwickshire\, CV37 9XJ\, United Kingdom
CATEGORIES:Socials
END:VEVENT
BEGIN:VEVENT
DTSTART;TZID=Europe/London:20250507T200000
DTEND;TZID=Europe/London:20250507T230000
DTSTAMP:20260421T012054
CREATED:20250424T201405Z
LAST-MODIFIED:20250424T201405Z
UID:80-1746648000-1746658800@www.ardendivers.co.uk
SUMMARY:Social meet up\, 7 May
DESCRIPTION:Our regular Wednesday evening get together. Come along\, hang out with friends and chat about your love for diving at the Mary Arden Inn in Wilmcote
URL:https://www.ardendivers.co.uk/event/social-meet-up-7-may/
LOCATION:Mary Arden Inn\, Wilmcote\, Stratford on Avon\, Warwickshire\, CV37 9XJ\, United Kingdom
CATEGORIES:Socials
END:VEVENT
BEGIN:VEVENT
DTSTART;VALUE=DATE:20250502
DTEND;VALUE=DATE:20250506
DTSTAMP:20260421T012054
CREATED:20250414T165935Z
LAST-MODIFIED:20250414T165935Z
UID:36-1746144000-1746489599@www.ardendivers.co.uk
SUMMARY:Swanage
DESCRIPTION:Bank holiday weekend in Swanage. \nWe’ll be diving under the pier on Saturday for an fun day of seeking out little critters in the shallows. Then Sunday we’re out on the boats with Divers Down\, with two dives planned – the iconic Kyarra in the morning\, and the Valentine Tanks in the afternoon. \nCamping at Tom’s Field in Langton Matravers
URL:https://www.ardendivers.co.uk/event/swanage/
LOCATION:Swanage Pier\, Swanage Pier\, Swanage\, Dorset\, BH19 2AP\, United Kingdom
CATEGORIES:Trips
END:VEVENT
BEGIN:VEVENT
DTSTART;TZID=Europe/London:20250430T200000
DTEND;TZID=Europe/London:20250430T230000
DTSTAMP:20260421T012054
CREATED:20250424T201120Z
LAST-MODIFIED:20250424T201120Z
UID:78-1746043200-1746054000@www.ardendivers.co.uk
SUMMARY:Social meet up
DESCRIPTION:Our regular Wednesday evening get together. Come along\, hang out with friends and chat about your love for diving at the Mary Arden Inn in Wilmcote
URL:https://www.ardendivers.co.uk/event/social-meet-up/
LOCATION:Mary Arden Inn\, Wilmcote\, Stratford on Avon\, Warwickshire\, CV37 9XJ\, United Kingdom
CATEGORIES:Socials
END:VEVENT
BEGIN:VEVENT
DTSTART;TZID=Europe/London:20250416T200000
DTEND;TZID=Europe/London:20250416T230000
DTSTAMP:20260421T012054
CREATED:20250414T162654Z
LAST-MODIFIED:20250414T162654Z
UID:30-1744833600-1744844400@www.ardendivers.co.uk
SUMMARY:Social meet up\, 16 April
DESCRIPTION:Our regular social get together. Come along\, enjoy the company\, chat about the diving you love and make friends
URL:https://www.ardendivers.co.uk/event/social-meet-up-16-april/
LOCATION:Mary Arden Inn\, Wilmcote\, Stratford on Avon\, Warwickshire\, CV37 9XJ\, United Kingdom
CATEGORIES:Socials
END:VEVENT
END:VCALENDAR