BEGIN:VCALENDAR
VERSION:2.0
PRODID:-//Arden Divers - ECPv6.15.20//NONSGML v1.0//EN
CALSCALE:GREGORIAN
METHOD:PUBLISH
X-ORIGINAL-URL:https://www.ardendivers.co.uk
X-WR-CALDESC:Events for Arden Divers
REFRESH-INTERVAL;VALUE=DURATION:PT1H
X-Robots-Tag:noindex
X-PUBLISHED-TTL:PT1H
BEGIN:VTIMEZONE
TZID:Europe/London
BEGIN:DAYLIGHT
TZOFFSETFROM:+0000
TZOFFSETTO:+0100
TZNAME:BST
DTSTART:20240331T010000
END:DAYLIGHT
BEGIN:STANDARD
TZOFFSETFROM:+0100
TZOFFSETTO:+0000
TZNAME:GMT
DTSTART:20241027T010000
END:STANDARD
BEGIN:DAYLIGHT
TZOFFSETFROM:+0000
TZOFFSETTO:+0100
TZNAME:BST
DTSTART:20250330T010000
END:DAYLIGHT
BEGIN:STANDARD
TZOFFSETFROM:+0100
TZOFFSETTO:+0000
TZNAME:GMT
DTSTART:20251026T010000
END:STANDARD
BEGIN:DAYLIGHT
TZOFFSETFROM:+0000
TZOFFSETTO:+0100
TZNAME:BST
DTSTART:20260329T010000
END:DAYLIGHT
BEGIN:STANDARD
TZOFFSETFROM:+0100
TZOFFSETTO:+0000
TZNAME:GMT
DTSTART:20261025T010000
END:STANDARD
BEGIN:DAYLIGHT
TZOFFSETFROM:+0000
TZOFFSETTO:+0100
TZNAME:BST
DTSTART:20270328T010000
END:DAYLIGHT
BEGIN:STANDARD
TZOFFSETFROM:+0100
TZOFFSETTO:+0000
TZNAME:GMT
DTSTART:20271031T010000
END:STANDARD
END:VTIMEZONE
BEGIN:VEVENT
DTSTART;TZID=Europe/London:20251112T193000
DTEND;TZID=Europe/London:20251112T220000
DTSTAMP:20260420T235822
CREATED:20251108T183635Z
LAST-MODIFIED:20251227T121502Z
UID:16844-1762975800-1762984800@www.ardendivers.co.uk
SUMMARY:What if? Coping when things go wrong
DESCRIPTION:Solihull Sub Aqua Club are running a lecture / workshop exploring various scenarios and how to cope with them. It sounds like it should be an interesting evening and Arden Divers are welcome to go along. \n7:30\, upstairs at the Red Lion in Knowle.
URL:https://www.ardendivers.co.uk/event/what-if-coping-when-things-go-wrong/
LOCATION:Red Lion\, Knowle\, 1672 High Street\, Knowle\, Solihull\, B93 0LY\, United Kingdom
CATEGORIES:Social,Socials,Training
END:VEVENT
BEGIN:VEVENT
DTSTART;TZID=Europe/London:20251119T183000
DTEND;TZID=Europe/London:20251119T203000
DTSTAMP:20260420T235822
CREATED:20251108T182524Z
LAST-MODIFIED:20251108T182524Z
UID:16842-1763577000-1763584200@www.ardendivers.co.uk
SUMMARY:Pre AGM meal
DESCRIPTION:Join us for a buffet meal before the AGM. A chance to grab some food and discuss ideas about the future of the club informally. \nGather at 6:30pm for food at 7:00pm. Please let Abi know you are coming so she can sort numbers.
URL:https://www.ardendivers.co.uk/event/pre-agm-meal/
LOCATION:Mary Arden Inn\, Wilmcote\, Stratford on Avon\, Warwickshire\, CV37 9XJ\, United Kingdom
CATEGORIES:Social,Socials
END:VEVENT
BEGIN:VEVENT
DTSTART;TZID=Europe/London:20251119T203000
DTEND;TZID=Europe/London:20251119T220000
DTSTAMP:20260420T235822
CREATED:20251108T182046Z
LAST-MODIFIED:20251108T182046Z
UID:16840-1763584200-1763589600@www.ardendivers.co.uk
SUMMARY:Annual General Meeting 2025
DESCRIPTION:Our first Annual General Meeting will take place at the Mary Arden Inn. It’s an important opportunity for all to shape the way Arden Divers develops\, so please do try to make it. All current members are welcome.
URL:https://www.ardendivers.co.uk/event/annual-general-meeting-2025/
LOCATION:Mary Arden Inn\, Wilmcote\, Stratford on Avon\, Warwickshire\, CV37 9XJ\, United Kingdom
CATEGORIES:Club business
END:VEVENT
BEGIN:VEVENT
DTSTART;TZID=Europe/London:20251214T090000
DTEND;TZID=Europe/London:20251214T170000
DTSTAMP:20260420T235822
CREATED:20251120T182524Z
LAST-MODIFIED:20251206T134626Z
UID:16933-1765702800-1765731600@www.ardendivers.co.uk
SUMMARY:Christmas Fun Dive
DESCRIPTION:Rescheduled to 14th December \nCome and meet Manta Claus at the Arden Divers’  Christmas Fun Dive. \nBring festive fare to share and silly hats to wear! \nSunday 14th December 9am \nStoney Cove \nDisclaimer: manta sightings not guaranteed!
URL:https://www.ardendivers.co.uk/event/christmas-fun-dive/
LOCATION:Stoney Cove\, Sapcote Road\, Stoney Stanton\, Leicestershire\, LE9 4DW\, United Kingdom
CATEGORIES:Social,Socials,Trips
ATTACH;FMTTYPE=image/jpeg:https://www.ardendivers.co.uk/wp-content/uploads/sites/15/2025/11/Christmas-fun-dive.jpg
END:VEVENT
BEGIN:VEVENT
DTSTART;TZID=Europe/London:20260114T200000
DTEND;TZID=Europe/London:20260114T230000
DTSTAMP:20260420T235822
CREATED:20260109T133239Z
LAST-MODIFIED:20260109T133433Z
UID:17112-1768420800-1768431600@www.ardendivers.co.uk
SUMMARY:Social meet up\, 14 January
DESCRIPTION:Our regular social get together. Come along\, enjoy the company\, chat about the diving you love and make friends
URL:https://www.ardendivers.co.uk/event/social-meet-up-14-january/
LOCATION:Mary Arden Inn\, Wilmcote\, Stratford on Avon\, Warwickshire\, CV37 9XJ\, United Kingdom
CATEGORIES:Social,Socials
END:VEVENT
BEGIN:VEVENT
DTSTART;TZID=Europe/London:20260118T083000
DTEND;TZID=Europe/London:20260118T170000
DTSTAMP:20260420T235822
CREATED:20260110T134034Z
LAST-MODIFIED:20260112T101010Z
UID:17138-1768725000-1768755600@www.ardendivers.co.uk
SUMMARY:January Fun Dive
DESCRIPTION:Yes\, Stoney can be fun even in January! Viz has been fabulous recently\, so this is a great chance to get some time underwater and see Stoney at its best. Followed\, of course\, by a warming beverage and good company in Nemos. \nA joint event with our friends from Solihull Divers. Let Simon or Sophie know if you’re planning on coming.
URL:https://www.ardendivers.co.uk/event/january-fun-dive/
LOCATION:Stoney Cove\, Sapcote Road\, Stoney Stanton\, Leicestershire\, LE9 4DW\, United Kingdom
CATEGORIES:Trips
END:VEVENT
BEGIN:VEVENT
DTSTART;TZID=Europe/London:20260121T200000
DTEND;TZID=Europe/London:20260121T230000
DTSTAMP:20260420T235822
CREATED:20260109T133239Z
LAST-MODIFIED:20260109T133433Z
UID:17113-1769025600-1769036400@www.ardendivers.co.uk
SUMMARY:Social meet up\, 21 January
DESCRIPTION:Our regular social get together. Come along\, enjoy the company\, chat about the diving you love and make friends
URL:https://www.ardendivers.co.uk/event/social-meet-up-21-january/
LOCATION:Mary Arden Inn\, Wilmcote\, Stratford on Avon\, Warwickshire\, CV37 9XJ\, United Kingdom
CATEGORIES:Social,Socials
END:VEVENT
BEGIN:VEVENT
DTSTART;TZID=Europe/London:20260128T200000
DTEND;TZID=Europe/London:20260128T230000
DTSTAMP:20260420T235822
CREATED:20260109T133239Z
LAST-MODIFIED:20260109T133432Z
UID:17114-1769630400-1769641200@www.ardendivers.co.uk
SUMMARY:Social meet up\, 28 January
DESCRIPTION:Our regular social get together. Come along\, enjoy the company\, chat about the diving you love and make friends
URL:https://www.ardendivers.co.uk/event/social-meet-up-28-january/
LOCATION:Mary Arden Inn\, Wilmcote\, Stratford on Avon\, Warwickshire\, CV37 9XJ\, United Kingdom
CATEGORIES:Social,Socials
END:VEVENT
BEGIN:VEVENT
DTSTART;TZID=Europe/London:20260204T200000
DTEND;TZID=Europe/London:20260204T230000
DTSTAMP:20260420T235822
CREATED:20260109T133240Z
LAST-MODIFIED:20260109T133432Z
UID:17115-1770235200-1770246000@www.ardendivers.co.uk
SUMMARY:Social meet up\, 4 February
DESCRIPTION:Our regular social get together. Come along\, enjoy the company\, chat about the diving you love and make friends
URL:https://www.ardendivers.co.uk/event/social-meet-up-4-february/
LOCATION:Mary Arden Inn\, Wilmcote\, Stratford on Avon\, Warwickshire\, CV37 9XJ\, United Kingdom
CATEGORIES:Social,Socials
END:VEVENT
BEGIN:VEVENT
DTSTART;TZID=Europe/London:20260211T200000
DTEND;TZID=Europe/London:20260211T230000
DTSTAMP:20260420T235822
CREATED:20260109T133240Z
LAST-MODIFIED:20260109T133432Z
UID:17116-1770840000-1770850800@www.ardendivers.co.uk
SUMMARY:Social meet up\, 11 February
DESCRIPTION:Our regular social get together. Come along\, enjoy the company\, chat about the diving you love and make friends
URL:https://www.ardendivers.co.uk/event/social-meet-up-11-february/
LOCATION:Mary Arden Inn\, Wilmcote\, Stratford on Avon\, Warwickshire\, CV37 9XJ\, United Kingdom
CATEGORIES:Social,Socials
END:VEVENT
BEGIN:VEVENT
DTSTART;TZID=Europe/London:20260215T080000
DTEND;TZID=Europe/London:20260215T170000
DTSTAMP:20260420T235822
CREATED:20260205T121927Z
LAST-MODIFIED:20260205T122024Z
UID:17174-1771142400-1771174800@www.ardendivers.co.uk
SUMMARY:February fun dive
DESCRIPTION:Yes\, Stoney can be fun even in February! Viz has been fabulous recently\, so this is a great chance to get some time underwater and see Stoney at its best. Followed\, of course\, by a warming beverage and good company in Nemos. \nA joint event with our friends from Solihull Divers. Let Simon or Sophie know if you’re planning on coming.
URL:https://www.ardendivers.co.uk/event/february-fun-dive/
LOCATION:Stoney Cove\, Sapcote Road\, Stoney Stanton\, Leicestershire\, LE9 4DW\, United Kingdom
CATEGORIES:Social,Socials,Trips
END:VEVENT
BEGIN:VEVENT
DTSTART;TZID=Europe/London:20260218T200000
DTEND;TZID=Europe/London:20260218T230000
DTSTAMP:20260420T235822
CREATED:20260109T133242Z
LAST-MODIFIED:20260109T133432Z
UID:17117-1771444800-1771455600@www.ardendivers.co.uk
SUMMARY:Social meet up\, 18 February
DESCRIPTION:Our regular social get together. Come along\, enjoy the company\, chat about the diving you love and make friends
URL:https://www.ardendivers.co.uk/event/social-meet-up-18-february/
LOCATION:Mary Arden Inn\, Wilmcote\, Stratford on Avon\, Warwickshire\, CV37 9XJ\, United Kingdom
CATEGORIES:Social,Socials
END:VEVENT
BEGIN:VEVENT
DTSTART;VALUE=DATE:20260221
DTEND;VALUE=DATE:20260223
DTSTAMP:20260420T235822
CREATED:20260108T185043Z
LAST-MODIFIED:20260205T122625Z
UID:17105-1771632000-1771804799@www.ardendivers.co.uk
SUMMARY:Plymouth
DESCRIPTION:Just because it’s February doesn’t mean we can’t go diving! Join us for a winter weekend diving in Plymouth. Staying at the warm and cosy Leonardo hotel and diving with In Deep from one of their excellent hardboats. \n£280\, two dives per day\, B&B\, Nitrox (banked\, so no need for O₂ clean cylinders) and pasty on the boat (based on two sharing). Contact Sophie. \nThis is a trip rescheduled from January.
URL:https://www.ardendivers.co.uk/event/plymouth-winter-2026/
LOCATION:Plymouth\, Plymoth\, United Kingdom
CATEGORIES:Trips
END:VEVENT
BEGIN:VEVENT
DTSTART;TZID=Europe/London:20260225T200000
DTEND;TZID=Europe/London:20260225T230000
DTSTAMP:20260420T235822
CREATED:20260109T133242Z
LAST-MODIFIED:20260109T133432Z
UID:17118-1772049600-1772060400@www.ardendivers.co.uk
SUMMARY:Social meet up\, 25 February
DESCRIPTION:Our regular social get together. Come along\, enjoy the company\, chat about the diving you love and make friends
URL:https://www.ardendivers.co.uk/event/social-meet-up-25-february/
LOCATION:Mary Arden Inn\, Wilmcote\, Stratford on Avon\, Warwickshire\, CV37 9XJ\, United Kingdom
CATEGORIES:Social,Socials
END:VEVENT
BEGIN:VEVENT
DTSTART;TZID=Europe/London:20260304T200000
DTEND;TZID=Europe/London:20260304T230000
DTSTAMP:20260420T235822
CREATED:20260109T133243Z
LAST-MODIFIED:20260109T133432Z
UID:17119-1772654400-1772665200@www.ardendivers.co.uk
SUMMARY:Social meet up\, 4 March
DESCRIPTION:Our regular social get together. Come along\, enjoy the company\, chat about the diving you love and make friends
URL:https://www.ardendivers.co.uk/event/social-meet-up-4-march/
LOCATION:Mary Arden Inn\, Wilmcote\, Stratford on Avon\, Warwickshire\, CV37 9XJ\, United Kingdom
CATEGORIES:Social,Socials
END:VEVENT
BEGIN:VEVENT
DTSTART;TZID=Europe/London:20260311T200000
DTEND;TZID=Europe/London:20260311T230000
DTSTAMP:20260420T235822
CREATED:20260109T133243Z
LAST-MODIFIED:20260109T133432Z
UID:17120-1773259200-1773270000@www.ardendivers.co.uk
SUMMARY:Social meet up\, 11 March
DESCRIPTION:Our regular social get together. Come along\, enjoy the company\, chat about the diving you love and make friends
URL:https://www.ardendivers.co.uk/event/social-meet-up-11-march/
LOCATION:Mary Arden Inn\, Wilmcote\, Stratford on Avon\, Warwickshire\, CV37 9XJ\, United Kingdom
CATEGORIES:Social,Socials
END:VEVENT
BEGIN:VEVENT
DTSTART;TZID=Europe/London:20260318T200000
DTEND;TZID=Europe/London:20260318T230000
DTSTAMP:20260420T235822
CREATED:20260109T133243Z
LAST-MODIFIED:20260109T133432Z
UID:17121-1773864000-1773874800@www.ardendivers.co.uk
SUMMARY:Social meet up\, 18 March
DESCRIPTION:Our regular social get together. Come along\, enjoy the company\, chat about the diving you love and make friends
URL:https://www.ardendivers.co.uk/event/social-meet-up-18-march/
LOCATION:Mary Arden Inn\, Wilmcote\, Stratford on Avon\, Warwickshire\, CV37 9XJ\, United Kingdom
CATEGORIES:Social,Socials
END:VEVENT
BEGIN:VEVENT
DTSTART;VALUE=DATE:20260507
DTEND;VALUE=DATE:20260510
DTSTAMP:20260420T235822
CREATED:20260109T134716Z
LAST-MODIFIED:20260109T134716Z
UID:17132-1778112000-1778371199@www.ardendivers.co.uk
SUMMARY:Lundy seal fun
DESCRIPTION:A few days away on our favourite seal infested island.
URL:https://www.ardendivers.co.uk/event/lundy-seal-fun/
LOCATION:Lundy\, Lundy
CATEGORIES:Trips
END:VEVENT
BEGIN:VEVENT
DTSTART;VALUE=DATE:20260606
DTEND;VALUE=DATE:20260614
DTSTAMP:20260420T235822
CREATED:20250415T184343Z
LAST-MODIFIED:20250711T204428Z
UID:41-1780704000-1781395199@www.ardendivers.co.uk
SUMMARY:Isles of Scilly
DESCRIPTION:The Isles of Scilly is probably the most beautiful place in the UK. It also boasts some of the best diving\, featuring impressive wrecks\, stunning scenic reefs\, and curious seals. \nThis is a rare opportunity to dive Scilly from the comfort of a hardboat! We’ll be diving with Skindeep from their well equipped catamaran. And what’s more we have self-catering accommodation just a stone’s throw from the beautiful Porth Cressa beach.  An opportunity not to be missed!
URL:https://www.ardendivers.co.uk/event/isles-of-scilly/
LOCATION:Isles of Scilly\, Isles of Scilly\, United Kingdom
CATEGORIES:Trips
END:VEVENT
BEGIN:VEVENT
DTSTART;VALUE=DATE:20260815
DTEND;VALUE=DATE:20260817
DTSTAMP:20260420T235822
CREATED:20260223T213439Z
LAST-MODIFIED:20260223T213439Z
UID:17203-1786752000-1786924799@www.ardendivers.co.uk
SUMMARY:Plymouth with In Deep and Blue Sharks
DESCRIPTION:A weekend of diving with In Deep out of Plymouth\, on their excellent hardboat Seeker. We’ll be staying at the Leonardo hotel\, and the package includes bed and breakfast\, a hot snack on the boat\, and air fills. \nIn addition\, if you fancy extending the weekend there’s a chance to go snorkelling with blue sharks on the Friday! \n£325 for \n\n2 Nights B&B\n2 days diving\n4 Air Fills or ½ price 32%\nHot Food & Drink Onboard\nFree On-Site Parking\n\nIncluding shark snorkelling of Friday the price is £570\, including 3 night B&B \nContact Sophie
URL:https://www.ardendivers.co.uk/event/plymouth-with-in-deep-and-blue-sharks/
LOCATION:Plymouth\, Plymoth\, United Kingdom
CATEGORIES:Trips
END:VEVENT
END:VCALENDAR